BEGIN:VCALENDAR
VERSION:2.0
PRODID:-//ICS Generator//NONSGML ICS Generator//DE
BEGIN:VEVENT
UID:1775314977905-9w3nd68?@ics-generator.de
DTSTAMP:20260404T150257Z
DTSTART:20260413T193000
DTEND:20260413T230000
SUMMARY:CV-Ortszirkelstammtisch
LOCATION:Gasthof Lerner\\\, Vötting
BEGIN:VALARM
ACTION:DISPLAY
TRIGGER:-PT30M
DESCRIPTION:Reminder
END:VALARM
END:VEVENT
BEGIN:VEVENT
UID:1775314977906-miqzl2o?@ics-generator.de
DTSTAMP:20260404T150257Z
DTSTART:20260414T190000
DTEND:20260414T230000
SUMMARY:1. BC/AC (ho)
BEGIN:VALARM
ACTION:DISPLAY
TRIGGER:-PT30M
DESCRIPTION:Reminder
END:VALARM
END:VEVENT
BEGIN:VEVENT
UID:1775314977906-aejgae1?@ics-generator.de
DTSTAMP:20260404T150257Z
DTSTART:20260417T190000
DTEND:20260417T230000
SUMMARY:Fassanstich (o)
BEGIN:VALARM
ACTION:DISPLAY
TRIGGER:-PT30M
DESCRIPTION:Reminder
END:VALARM
END:VEVENT
BEGIN:VEVENT
UID:1775314977906-iez9ypw?@ics-generator.de
DTSTAMP:20260404T150257Z
DTSTART:20260418T160000
DTEND:20260418T170000
SUMMARY:Semesterantrittsgottesdienst (ho)
LOCATION:Johanneskirche am Domplatz
BEGIN:VALARM
ACTION:DISPLAY
TRIGGER:-PT30M
DESCRIPTION:Reminder
END:VALARM
END:VEVENT
BEGIN:VEVENT
UID:1775314977906-e3hr6jq?@ics-generator.de
DTSTAMP:20260404T150257Z
DTSTART:20260418T200000
DTEND:20260418T230000
SUMMARY:Semesterantrittskneipe (ho)
LOCATION:Jagdstüberl des Lindenkellers
BEGIN:VALARM
ACTION:DISPLAY
TRIGGER:-PT30M
DESCRIPTION:Reminder
END:VALARM
END:VEVENT
BEGIN:VEVENT
UID:1775314977906-zhc8jnz?@ics-generator.de
DTSTAMP:20260404T150257Z
DTSTART:20260419T110000
DTEND:20260419T140000
SUMMARY:Brunch (io)
BEGIN:VALARM
ACTION:DISPLAY
TRIGGER:-PT30M
DESCRIPTION:Reminder
END:VALARM
END:VEVENT
BEGIN:VEVENT
UID:1775314977906-tmomk6n?@ics-generator.de
DTSTAMP:20260404T150257Z
DTSTART;VALUE=DATE:20260423
DTEND;VALUE=DATE:20260424
SUMMARY:Tag des Bieres
BEGIN:VALARM
ACTION:DISPLAY
TRIGGER:-PT30M
DESCRIPTION:Reminder
END:VALARM
END:VEVENT
BEGIN:VEVENT
UID:1775314977906-frgyyo3?@ics-generator.de
DTSTAMP:20260404T150257Z
DTSTART:20260428T200000
DTEND:20260428T230000
SUMMARY:Cocktailabend (o)
BEGIN:VALARM
ACTION:DISPLAY
TRIGGER:-PT30M
DESCRIPTION:Reminder
END:VALARM
END:VEVENT
BEGIN:VEVENT
UID:1775314977906-b9whurc?@ics-generator.de
DTSTAMP:20260404T150257Z
DTSTART;VALUE=DATE:20260429
DTEND;VALUE=DATE:20260501
SUMMARY:Turmbautage (o)
BEGIN:VALARM
ACTION:DISPLAY
TRIGGER:-PT30M
DESCRIPTION:Reminder
END:VALARM
END:VEVENT
BEGIN:VEVENT
UID:1775314977906-0mdn2zn?@ics-generator.de
DTSTAMP:20260404T150257Z
DTSTART:20260501T113000
DTEND:20260501T133000
SUMMARY:Maiwanderung (io)
BEGIN:VALARM
ACTION:DISPLAY
TRIGGER:-PT30M
DESCRIPTION:Reminder
END:VALARM
END:VEVENT
BEGIN:VEVENT
UID:1775314977906-ci5loju?@ics-generator.de
DTSTAMP:20260404T150257Z
DTSTART:20260503T170000
DTEND:20260503T180000
SUMMARY:Maiandacht (io)
LOCATION:Dom
BEGIN:VALARM
ACTION:DISPLAY
TRIGGER:-PT30M
DESCRIPTION:Reminder
END:VALARM
END:VEVENT
BEGIN:VEVENT
UID:1775314977906-vdhyq3l?@ics-generator.de
DTSTAMP:20260404T150257Z
DTSTART:20260504T193000
DTEND:20260504T233000
SUMMARY:CV-Ortszirkelstammtisch
LOCATION:Gasthof Lerner\\\, Vötting
BEGIN:VALARM
ACTION:DISPLAY
TRIGGER:-PT30M
DESCRIPTION:Reminder
END:VALARM
END:VEVENT
BEGIN:VEVENT
UID:1775314977906-xwcnpf6?@ics-generator.de
DTSTAMP:20260404T150257Z
DTSTART:20260505T180000
DTEND:20260505T220000
SUMMARY:Vortrag "Berufseinstieg und Führungsqualitäten" (o)
DESCRIPTION:mit AHAH Jonas Albert B.Sc. Landwirtschaft\\\, Michael Münsterer M.Sc. Nachwachsende Rohstoffe und Cbr. Markus Heller BuM!
BEGIN:VALARM
ACTION:DISPLAY
TRIGGER:-PT30M
DESCRIPTION:Reminder
END:VALARM
END:VEVENT
BEGIN:VEVENT
UID:1775314977907-qgm84uu?@ics-generator.de
DTSTAMP:20260404T150257Z
DTSTART;VALUE=DATE:20260507
DTEND;VALUE=DATE:20260508
SUMMARY:Maifest HSWT
BEGIN:VALARM
ACTION:DISPLAY
TRIGGER:-PT30M
DESCRIPTION:Reminder
END:VALARM
END:VEVENT
BEGIN:VEVENT
UID:1775314977907-5pzsc9i?@ics-generator.de
DTSTAMP:20260404T150257Z
DTSTART:20260512T190000
DTEND:20260512T230000
SUMMARY:2. BC/AC (ho)
BEGIN:VALARM
ACTION:DISPLAY
TRIGGER:-PT30M
DESCRIPTION:Reminder
END:VALARM
END:VEVENT
BEGIN:VEVENT
UID:1775314977907-z3weio2?@ics-generator.de
DTSTAMP:20260404T150257Z
DTSTART:20260517T170000
DTEND:20260517T180000
SUMMARY:Maiandacht (o)
LOCATION:Dom
BEGIN:VALARM
ACTION:DISPLAY
TRIGGER:-PT30M
DESCRIPTION:Reminder
END:VALARM
END:VEVENT
BEGIN:VEVENT
UID:1775314977907-6jd55z5?@ics-generator.de
DTSTAMP:20260404T150257Z
DTSTART;VALUE=DATE:20260519
DTEND;VALUE=DATE:20260520
SUMMARY:FIC-Fußballturnier
BEGIN:VALARM
ACTION:DISPLAY
TRIGGER:-PT30M
DESCRIPTION:Reminder
END:VALARM
END:VEVENT
BEGIN:VEVENT
UID:1775314977907-ol6os84?@ics-generator.de
DTSTAMP:20260404T150257Z
DTSTART;VALUE=DATE:20260521
DTEND;VALUE=DATE:20260525
SUMMARY:Stiftungsfest (ho)
BEGIN:VALARM
ACTION:DISPLAY
TRIGGER:-PT30M
DESCRIPTION:Reminder
END:VALARM
END:VEVENT
BEGIN:VEVENT
UID:1775314977907-ows7ovr?@ics-generator.de
DTSTAMP:20260404T150257Z
DTSTART;VALUE=DATE:20260527
DTEND;VALUE=DATE:20260528
SUMMARY:Domberggrillen
BEGIN:VALARM
ACTION:DISPLAY
TRIGGER:-PT30M
DESCRIPTION:Reminder
END:VALARM
END:VEVENT
BEGIN:VEVENT
UID:1775314977907-q47uwct?@ics-generator.de
DTSTAMP:20260404T150257Z
DTSTART:20260530T190000
DTEND:20260530T230000
SUMMARY:Damenkneipe (o)
BEGIN:VALARM
ACTION:DISPLAY
TRIGGER:-PT30M
DESCRIPTION:Reminder
END:VALARM
END:VEVENT
BEGIN:VEVENT
UID:1775314977907-1hk73cu?@ics-generator.de
DTSTAMP:20260404T150257Z
DTSTART:20260601T193000
DTEND:20260601T233000
SUMMARY:CV-Ortszirkelstammtisch
LOCATION:Gasthof Lerner\\\, Vötting
BEGIN:VALARM
ACTION:DISPLAY
TRIGGER:-PT30M
DESCRIPTION:Reminder
END:VALARM
END:VEVENT
BEGIN:VEVENT
UID:1775314977907-uq6plpf?@ics-generator.de
DTSTAMP:20260404T150257Z
DTSTART:20260604T083000
DTEND:20260604T123000
SUMMARY:Fronleichnam (ho)
BEGIN:VALARM
ACTION:DISPLAY
TRIGGER:-PT30M
DESCRIPTION:Reminder
END:VALARM
END:VEVENT
BEGIN:VEVENT
UID:1775314977907-e3f4sua?@ics-generator.de
DTSTAMP:20260404T150257Z
DTSTART:20260609T190000
DTEND:20260609T230000
SUMMARY:3.BC/AC (ho)
BEGIN:VALARM
ACTION:DISPLAY
TRIGGER:-PT30M
DESCRIPTION:Reminder
END:VALARM
END:VEVENT
BEGIN:VEVENT
UID:1775314977907-2blfhke?@ics-generator.de
DTSTAMP:20260404T150257Z
DTSTART:20260611T140000
DTEND:20260611T200000
SUMMARY:Besichtigung Hopfenanbaubetrieb (o)
BEGIN:VALARM
ACTION:DISPLAY
TRIGGER:-PT30M
DESCRIPTION:Reminder
END:VALARM
END:VEVENT
BEGIN:VEVENT
UID:1775314977907-tnzonpo?@ics-generator.de
DTSTAMP:20260404T150257Z
DTSTART:20260612T140000
DTEND:20260612T170000
SUMMARY:Isarkneipe (io)
BEGIN:VALARM
ACTION:DISPLAY
TRIGGER:-PT30M
DESCRIPTION:Reminder
END:VALARM
END:VEVENT
BEGIN:VEVENT
UID:1775314977907-xurjxtx?@ics-generator.de
DTSTAMP:20260404T150257Z
DTSTART:20260617T140000
DTEND:20260617T200000
SUMMARY:Fahrt nach Bad Tölz (io)
BEGIN:VALARM
ACTION:DISPLAY
TRIGGER:-PT30M
DESCRIPTION:Reminder
END:VALARM
END:VEVENT
BEGIN:VEVENT
UID:1775314977907-enanj2a?@ics-generator.de
DTSTAMP:20260404T150257Z
DTSTART:20260622T170000
DTEND:20260622T220000
SUMMARY:Fischgrillen (o)
BEGIN:VALARM
ACTION:DISPLAY
TRIGGER:-PT30M
DESCRIPTION:Reminder
END:VALARM
END:VEVENT
BEGIN:VEVENT
UID:1775314977907-0hpuftl?@ics-generator.de
DTSTAMP:20260404T150257Z
DTSTART:20260625T180000
DTEND:20260625T230000
SUMMARY:Saugrillen mit unseren Patenverbindungen (o)
LOCATION:Ganzenmüllerstraße 16
BEGIN:VALARM
ACTION:DISPLAY
TRIGGER:-PT30M
DESCRIPTION:Reminder
END:VALARM
END:VEVENT
BEGIN:VEVENT
UID:1775314977907-1ftaun8?@ics-generator.de
DTSTAMP:20260404T150257Z
DTSTART;VALUE=DATE:20260626
DTEND;VALUE=DATE:20260627
SUMMARY:Freibierfest
BEGIN:VALARM
ACTION:DISPLAY
TRIGGER:-PT30M
DESCRIPTION:Reminder
END:VALARM
END:VEVENT
BEGIN:VEVENT
UID:1775314977907-bv6xpbv?@ics-generator.de
DTSTAMP:20260404T150257Z
DTSTART:20260701T180000
DTEND:20260701T220000
SUMMARY:Schafkopfkurs (io)
BEGIN:VALARM
ACTION:DISPLAY
TRIGGER:-PT30M
DESCRIPTION:Reminder
END:VALARM
END:VEVENT
BEGIN:VEVENT
UID:1775314977908-dehd7ev?@ics-generator.de
DTSTAMP:20260404T150257Z
DTSTART;VALUE=DATE:20260703
DTEND;VALUE=DATE:20260706
SUMMARY:Aktivenfahrt in die Pfalz (o)
BEGIN:VALARM
ACTION:DISPLAY
TRIGGER:-PT30M
DESCRIPTION:Reminder
END:VALARM
END:VEVENT
BEGIN:VEVENT
UID:1775314977908-03kz1lv?@ics-generator.de
DTSTAMP:20260404T150257Z
DTSTART:20260706T193000
DTEND:20260706T233000
SUMMARY:CV-Ortszirkelstammtisch
LOCATION:Gasthof Lerner\\\, Vötting
BEGIN:VALARM
ACTION:DISPLAY
TRIGGER:-PT30M
DESCRIPTION:Reminder
END:VALARM
END:VEVENT
BEGIN:VEVENT
UID:1775314977908-jp9krqo?@ics-generator.de
DTSTAMP:20260404T150257Z
DTSTART:20260707T190000
DTEND:20260707T230000
SUMMARY:4. BC/AC (ho)
BEGIN:VALARM
ACTION:DISPLAY
TRIGGER:-PT30M
DESCRIPTION:Reminder
END:VALARM
END:VEVENT
BEGIN:VEVENT
UID:1775314977908-26ss348?@ics-generator.de
DTSTAMP:20260404T150257Z
DTSTART:20260714T190000
DTEND:20260714T230000
SUMMARY:WaC/DeC (ho)
BEGIN:VALARM
ACTION:DISPLAY
TRIGGER:-PT30M
DESCRIPTION:Reminder
END:VALARM
END:VEVENT
BEGIN:VEVENT
UID:1775314977908-u9uumu6?@ics-generator.de
DTSTAMP:20260404T150257Z
DTSTART:20260725T160000
DTEND:20260725T170000
SUMMARY:Abschlussgottesdienst (ho)
BEGIN:VALARM
ACTION:DISPLAY
TRIGGER:-PT30M
DESCRIPTION:Reminder
END:VALARM
END:VEVENT
BEGIN:VEVENT
UID:1775314977908-37r4goy?@ics-generator.de
DTSTAMP:20260404T150257Z
DTSTART:20260725T200000
DTEND:20260725T230000
SUMMARY:Semesterabschlusskneipe (ho)
BEGIN:VALARM
ACTION:DISPLAY
TRIGGER:-PT30M
DESCRIPTION:Reminder
END:VALARM
END:VEVENT
BEGIN:VEVENT
UID:1775314977908-mw141ns?@ics-generator.de
DTSTAMP:20260404T150257Z
DTSTART:20260726T110000
DTEND:20260726T150000
SUMMARY:Brunch (io)
BEGIN:VALARM
ACTION:DISPLAY
TRIGGER:-PT30M
DESCRIPTION:Reminder
END:VALARM
END:VEVENT
END:VCALENDAR
