BEGIN:VCALENDAR
VERSION:2.0
PRODID:-//K.D.St.V. Agilolfia Freising-Weihenstephan im CV - ECPv6.15.20//NONSGML v1.0//EN
CALSCALE:GREGORIAN
METHOD:PUBLISH
X-WR-CALNAME:K.D.St.V. Agilolfia Freising-Weihenstephan im CV
X-ORIGINAL-URL:https://agilolfia.com
X-WR-CALDESC:Veranstaltungen für K.D.St.V. Agilolfia Freising-Weihenstephan im CV
REFRESH-INTERVAL;VALUE=DURATION:PT1H
X-Robots-Tag:noindex
X-PUBLISHED-TTL:PT1H
BEGIN:VTIMEZONE
TZID:Europe/Berlin
BEGIN:DAYLIGHT
TZOFFSETFROM:+0100
TZOFFSETTO:+0200
TZNAME:CEST
DTSTART:20250330T010000
END:DAYLIGHT
BEGIN:STANDARD
TZOFFSETFROM:+0200
TZOFFSETTO:+0100
TZNAME:CET
DTSTART:20251026T010000
END:STANDARD
BEGIN:DAYLIGHT
TZOFFSETFROM:+0100
TZOFFSETTO:+0200
TZNAME:CEST
DTSTART:20260329T010000
END:DAYLIGHT
BEGIN:STANDARD
TZOFFSETFROM:+0200
TZOFFSETTO:+0100
TZNAME:CET
DTSTART:20261025T010000
END:STANDARD
BEGIN:DAYLIGHT
TZOFFSETFROM:+0100
TZOFFSETTO:+0200
TZNAME:CEST
DTSTART:20270328T010000
END:DAYLIGHT
BEGIN:STANDARD
TZOFFSETFROM:+0200
TZOFFSETTO:+0100
TZNAME:CET
DTSTART:20271031T010000
END:STANDARD
END:VTIMEZONE
BEGIN:VEVENT
DTSTART;TZID=Europe/Berlin:20260725T160000
DTEND;TZID=Europe/Berlin:20260725T170000
DTSTAMP:20260419T232840
CREATED:20260414T144919Z
LAST-MODIFIED:20260414T144919Z
UID:879-1784995200-1784998800@agilolfia.com
SUMMARY:Abschlussgottesdienst in der Johanneskirche am Domplatz
DESCRIPTION:Abschlussgottesdienst in der Johanneskirche am\nDomplatz
URL:https://agilolfia.com/veranstaltung/abschlussgottesdienst-in-der-johanneskirche-am-domplatz/
LOCATION:Johanneskirche am Domplatz\, Domberg 36\, Freising\, Bayern\, 85354\, Germany
END:VEVENT
END:VCALENDAR